BEGIN:VCALENDAR
VERSION:2.0
PRODID:-//Institute for Advanced Learning and Research - ECPv6.15.20//NONSGML v1.0//EN
CALSCALE:GREGORIAN
METHOD:PUBLISH
X-ORIGINAL-URL:https://www.ialr.org
X-WR-CALDESC:Events for Institute for Advanced Learning and Research
REFRESH-INTERVAL;VALUE=DURATION:PT1H
X-Robots-Tag:noindex
X-PUBLISHED-TTL:PT1H
BEGIN:VTIMEZONE
TZID:America/New_York
BEGIN:DAYLIGHT
TZOFFSETFROM:-0500
TZOFFSETTO:-0400
TZNAME:EDT
DTSTART:20250309T070000
END:DAYLIGHT
BEGIN:STANDARD
TZOFFSETFROM:-0400
TZOFFSETTO:-0500
TZNAME:EST
DTSTART:20251102T060000
END:STANDARD
BEGIN:DAYLIGHT
TZOFFSETFROM:-0500
TZOFFSETTO:-0400
TZNAME:EDT
DTSTART:20260308T070000
END:DAYLIGHT
BEGIN:STANDARD
TZOFFSETFROM:-0400
TZOFFSETTO:-0500
TZNAME:EST
DTSTART:20261101T060000
END:STANDARD
BEGIN:DAYLIGHT
TZOFFSETFROM:-0500
TZOFFSETTO:-0400
TZNAME:EDT
DTSTART:20270314T070000
END:DAYLIGHT
BEGIN:STANDARD
TZOFFSETFROM:-0400
TZOFFSETTO:-0500
TZNAME:EST
DTSTART:20271107T060000
END:STANDARD
END:VTIMEZONE
BEGIN:VEVENT
DTSTART;TZID=America/New_York:20260206T090000
DTEND;TZID=America/New_York:20260206T113000
DTSTAMP:20260421T042234
CREATED:20251203T134958Z
LAST-MODIFIED:20260113T210446Z
UID:9222-1770368400-1770377400@www.ialr.org
SUMMARY:Life Line Screening
DESCRIPTION:Screenings are generally best suited for people over the age of 40. Factors such as high blood pressure\, high cholesterol\, diabetes\, being overweight\, smoking and a family history of stroke or cardiovascular disease may put you at a higher risk. \nDid you know 80% of strokes are preventable according to the American Heart Association? \nLife Line Screening provides valuable health screenings to detect the risk of stroke and cardiovascular disease.\n  \nSchedule a Screening \n 
URL:https://www.ialr.org/event/life-line-screening-february-2026/
LOCATION:Institute for Advanced Learning and Research\, 150 Slayton Avenue\, Danville\, VA\, 24504\, United States
CATEGORIES:Community Events,Conference Center,Featured
ATTACH;FMTTYPE=image/jpeg:https://www.ialr.org/wp-content/uploads/2024/09/Lifeline-Screening.jpg
END:VEVENT
END:VCALENDAR