BEGIN:VCALENDAR
VERSION:2.0
PRODID:-//Institute for Advanced Learning and Research - ECPv6.15.20//NONSGML v1.0//EN
CALSCALE:GREGORIAN
METHOD:PUBLISH
X-WR-CALNAME:Institute for Advanced Learning and Research
X-ORIGINAL-URL:https://www.ialr.org
X-WR-CALDESC:Events for Institute for Advanced Learning and Research
REFRESH-INTERVAL;VALUE=DURATION:PT1H
X-Robots-Tag:noindex
X-PUBLISHED-TTL:PT1H
BEGIN:VTIMEZONE
TZID:America/New_York
BEGIN:DAYLIGHT
TZOFFSETFROM:-0500
TZOFFSETTO:-0400
TZNAME:EDT
DTSTART:20250309T070000
END:DAYLIGHT
BEGIN:STANDARD
TZOFFSETFROM:-0400
TZOFFSETTO:-0500
TZNAME:EST
DTSTART:20251102T060000
END:STANDARD
BEGIN:DAYLIGHT
TZOFFSETFROM:-0500
TZOFFSETTO:-0400
TZNAME:EDT
DTSTART:20260308T070000
END:DAYLIGHT
BEGIN:STANDARD
TZOFFSETFROM:-0400
TZOFFSETTO:-0500
TZNAME:EST
DTSTART:20261101T060000
END:STANDARD
BEGIN:DAYLIGHT
TZOFFSETFROM:-0500
TZOFFSETTO:-0400
TZNAME:EDT
DTSTART:20270314T070000
END:DAYLIGHT
BEGIN:STANDARD
TZOFFSETFROM:-0400
TZOFFSETTO:-0500
TZNAME:EST
DTSTART:20271107T060000
END:STANDARD
END:VTIMEZONE
BEGIN:VEVENT
DTSTART;TZID=America/New_York:20260430T090000
DTEND;TZID=America/New_York:20260430T090000
DTSTAMP:20260425T072946
CREATED:20260211T135910Z
LAST-MODIFIED:20260324T183900Z
UID:9425-1777539600-1777539600@www.ialr.org
SUMMARY:Wonder Community - Intro to Canva 4.30.26
DESCRIPTION:  \nCome learn how to use Canva\, an online design tool\, in an introductory class at the Institute for Advanced Learning and Research. Canva can be used to design and create: \n\nFlyers\nBusiness Cards\nPresentations\nSocial Media Graphics\nLogos\n\nUse Canva’s drag-and-drop feature and layouts to design\, share\, and print flyers\, business cards\, presentations\, cover photos\, and more! This class is for beginners. \nWonder Member Cost: $45 \nWonder Member Seniors (60+)\, Veterans and Educators Cost: $40 \nNon-Wonder Member Cost: $50 \nNon-Wonder Member Seniors (60+)\, Veterans and Educators Cost: $45 \nStudent (K-12\, College) $35 \nFor payment options such as pay by check or cash at the workshop\, please contact Brian Stanley at 434.766.6745. \nMinimum enrollment: 6 | Maximum enrollment: 11 \nInstructor Brian Stanley\, Advanced Learning Coordinator II at IALR. \nREGISTER \n 
URL:https://www.ialr.org/event/computer-training-workshop-intro-to-canva-4-30-26/
LOCATION:Institute for Advanced Learning and Research\, 150 Slayton Avenue\, Danville\, VA\, 24504\, United States
CATEGORIES:Advanced Learning,Community Events,Computer Trainings,Featured,Learning Opportunities
ATTACH;FMTTYPE=image/jpeg:https://www.ialr.org/wp-content/uploads/2023/02/AdobeStock_145774524.jpeg
END:VEVENT
BEGIN:VEVENT
DTSTART;TZID=America/New_York:20260505T173000
DTEND;TZID=America/New_York:20260505T183000
DTSTAMP:20260425T072946
CREATED:20260413T155839Z
LAST-MODIFIED:20260413T155905Z
UID:9677-1778002200-1778005800@www.ialr.org
SUMMARY:Wonder Community - Evolution of Healthcare
DESCRIPTION:This event will shine light on how healthcare has changed over the years\, what we used to do\, what we do now\, and why those changes happened. \nMust have an active Wonder membership to attend. \nRegistration closes on May 4. \nPresented by Dan River Year Community Health Educator AmeriCorps members. \nREGISTER \n 
URL:https://www.ialr.org/event/wonder-community-https-wondercommunity-org-post_typetribe_eventsp2025previewtrue/
LOCATION:New College Institute\, 119 Fayette Street\, Martinsville\, 24112\, United States
CATEGORIES:Advanced Learning,Community Events,Featured,Learning Opportunities,Wonder Community
ATTACH;FMTTYPE=image/png:https://www.ialr.org/wp-content/uploads/2026/04/evolution-of-healthcare.png
END:VEVENT
BEGIN:VEVENT
DTSTART;TZID=America/New_York:20260506T173000
DTEND;TZID=America/New_York:20260506T183000
DTSTAMP:20260425T072946
CREATED:20260422T135308Z
LAST-MODIFIED:20260422T140511Z
UID:9679-1778088600-1778092200@www.ialr.org
SUMMARY:Wonder Community-SMART SERIES-Click.Connect.Colaborate. Part 1 Find Your Way
DESCRIPTION:Get comfortable finding your way around Microsoft Teams with confidence. Participants will learn how Teams and channels are organized\, where conversations and files live\, and how to move between tools with ease. By the end of the first session\, you’ll know exactly where to click and how to get back on track.  \nPart 1 of 3. \n$15 per session for Chamber Members \n$20 per session Non-Chamber Members \nPartnership with the Danville Pittsylvania Chamber of Commerce. \nPresented by Brian Stanley\, Program Coordinator II at Advanced Learning and Research. \nREGISTER \n  \n  \n  \n 
URL:https://www.ialr.org/event/wonder-community-international-smart-series-click-connect-colaborate-part-1-find-your-way/
LOCATION:Institute for Advanced Learning and Research\, 150 Slayton Avenue\, Danville\, VA\, 24504\, United States
CATEGORIES:Advanced Learning,Community Events,Featured,Learning Opportunities,Wonder Community
ATTACH;FMTTYPE=image/png:https://www.ialr.org/wp-content/uploads/2026/04/Click.Connect.Collaborate-Website-Image.png
END:VEVENT
BEGIN:VEVENT
DTSTART;TZID=America/New_York:20260511T120000
DTEND;TZID=America/New_York:20260511T130000
DTSTAMP:20260425T072946
CREATED:20260422T140918Z
LAST-MODIFIED:20260422T140918Z
UID:9681-1778500800-1778504400@www.ialr.org
SUMMARY:Wonder Community-SMART SERIES-Click.Connect.Colaborate. Part 2 Chat & Share Smart
DESCRIPTION:Learn how to communicate clearly and collaborate effectively using Teams chat and file‑sharing tools. This session covers starting chats\, using @mentions\, sharing files\, and working together in real time. You’ll leave knowing how to stay connected without feeling overwhelmed. \nPart 2 of 3. \n$15 per session for Chamber Members \n$20 per session Non-Chamber Members \nPartnership with the Danville Pittsylvania Chamber of Commerce. \nPresented by Brian Stanley\, Program Coordinator II at Advanced Learning and Research. \nREGISTER \n  \n  \n  \n 
URL:https://www.ialr.org/event/smart-series-click-connect-colaborate-part-2-chat-share-smart/
LOCATION:Institute for Advanced Learning and Research\, 150 Slayton Avenue\, Danville\, VA\, 24504\, United States
CATEGORIES:Advanced Learning,Community Events,Featured,Learning Opportunities,Wonder Community
ATTACH;FMTTYPE=image/png:https://www.ialr.org/wp-content/uploads/2026/04/Click.Connect.Collaborate-Website-Image.png
END:VEVENT
BEGIN:VEVENT
DTSTART;TZID=America/New_York:20260515T090000
DTEND;TZID=America/New_York:20260515T120000
DTSTAMP:20260425T072946
CREATED:20260211T141651Z
LAST-MODIFIED:20260413T155734Z
UID:9427-1778835600-1778846400@www.ialr.org
SUMMARY:Wonder Community - Intro to Excel 5.15.26
DESCRIPTION:Welcome to the world of Microsoft Excel. In this foundation course\, we will make organizing data\, completing basic calculations\, creating charts and graphs\, and other workplace functions simple with Microsoft Excel. If you have never worked with Excel\, this course will open your eyes to the possibilities. With an understanding of basic formulas\, spreadsheets can help you track your day-to-day business. \nWonder Member Cost: $45 \nWonder Member Seniors (60+)\, Veterans and Educators Cost: $40 \nNon-Wonder Member Cost: $50 \nNon-Wonder Member Seniors (60+)\, Veterans and Educators Cost: $45 \nStudent (K-12\, College) $35  \nFor payment options such as pay by check or cash at the workshop\, please contact Brian Stanley at 434.766.6745. \nMinimum enrollment: 6 | Maximum enrollment: 11 \nInstructor Ron Shaffer\, Senior Lecturer for the University of North Carolina Greensboro – Bryan School of Business and Economics \nREGISTER \n 
URL:https://www.ialr.org/event/wonder-community-intro-to-excel-5-15-26/
LOCATION:Institute for Advanced Learning and Research\, 150 Slayton Avenue\, Danville\, VA\, 24504\, United States
CATEGORIES:Advanced Learning,Community Events,Computer Trainings,Featured,Learning Opportunities,Wonder Community
ATTACH;FMTTYPE=image/jpeg:https://www.ialr.org/wp-content/uploads/2023/06/Microsoft-Excel-Computer.jpeg
END:VEVENT
BEGIN:VEVENT
DTSTART;TZID=America/New_York:20260515T130000
DTEND;TZID=America/New_York:20260515T160000
DTSTAMP:20260425T072946
CREATED:20260324T183104Z
LAST-MODIFIED:20260413T155638Z
UID:9546-1778850000-1778860800@www.ialr.org
SUMMARY:Wonder Community - Intermediate Excel 5.15.26
DESCRIPTION:Come learn advanced function formulas\, how to track inventory\, and how to pull information from client lists. Track spending\, calculate interest rates\, set up checking account ledgers\, create budgets and more. If you have a lot of data and need help pulling out the information you need\, this course is for you. \nWonder Member Cost: $45 \nWonder Member Seniors (60+)\, Veterans and Educators Cost: $40 \nNon-Wonder Member Cost: $50 \nNon-Wonder Member Seniors (60+)\, Veterans and Educators Cost: $45 \nStudent (K-12\, College) $35  \nFor payment options such as pay by check or cash at the workshop\, please contact Brian Stanley at 434.766.6745. \nMinimum enrollment: 6 | Maximum enrollment: 11 \nInstructor Ron Shaffer\, Senior Lecturer for the University of North Carolina Greensboro – Bryan School of Business and Economics \nREGISTER \n 
URL:https://www.ialr.org/event/wonder-community-intermediate-excel-5-15-26/
LOCATION:Institute for Advanced Learning and Research\, 150 Slayton Avenue\, Danville\, VA\, 24504\, United States
CATEGORIES:Advanced Learning,Community Events,Computer Trainings,Featured,Learning Opportunities
ATTACH;FMTTYPE=image/jpeg:https://www.ialr.org/wp-content/uploads/2023/06/Microsoft-Excel-Computer.jpeg
END:VEVENT
BEGIN:VEVENT
DTSTART;TZID=America/New_York:20260518T120000
DTEND;TZID=America/New_York:20260518T130000
DTSTAMP:20260425T072946
CREATED:20260413T160240Z
LAST-MODIFIED:20260422T141649Z
UID:9682-1779105600-1779109200@www.ialr.org
SUMMARY:Wonder Community-SMART SERIES-Click.Connect.Colaborate. Part 3 Easy Meetings
DESCRIPTION:Discover how to join\, schedule\, and run meetings smoothly in Microsoft Teams. Participants will practice using audio and video controls\, screen sharing\, and basic meeting features with confidence. This session helps take the stress out of virtual meetings so you can focus on the conversation\, not the technology. \nPart  of 3. \n$15 per session for Chamber Members \n$20 per session Non-Chamber Members \nPartnership with the Danville Pittsylvania Chamber of Commerce. \nPresented by Brian Stanley\, Program Coordinator II at Advanced Learning and Research. \nREGISTER \n  \n  \n  \n 
URL:https://www.ialr.org/event/smart-series-click-connect-colaborate-part-3-easy-meetings/
LOCATION:Institute for Advanced Learning and Research\, 150 Slayton Avenue\, Danville\, VA\, 24504\, United States
CATEGORIES:Advanced Learning,Community Events,Featured,Learning Opportunities,Wonder Community
ATTACH;FMTTYPE=image/png:https://www.ialr.org/wp-content/uploads/2026/04/Click.Connect.Collaborate-Website-Image.png
END:VEVENT
BEGIN:VEVENT
DTSTART;TZID=America/New_York:20260521T090000
DTEND;TZID=America/New_York:20260521T090000
DTSTAMP:20260425T072946
CREATED:20260413T155519Z
LAST-MODIFIED:20260413T155519Z
UID:9676-1779354000-1779354000@www.ialr.org
SUMMARY:Wonder Community - Intro to Canva 5.21.26
DESCRIPTION:  \nCome learn how to use Canva\, an online design tool\, in an introductory class at the Institute for Advanced Learning and Research. Canva can be used to design and create: \n\nFlyers\nBusiness Cards\nPresentations\nSocial Media Graphics\nLogos\n\nUse Canva’s drag-and-drop feature and layouts to design\, share\, and print flyers\, business cards\, presentations\, cover photos\, and more! This class is for beginners. \nWonder Member Cost: $45 \nWonder Member Seniors (60+)\, Veterans and Educators Cost: $40 \nNon-Wonder Member Cost: $50 \nNon-Wonder Member Seniors (60+)\, Veterans and Educators Cost: $45 \nStudent (K-12\, College) $35 \nFor payment options such as pay by check or cash at the workshop\, please contact Brian Stanley at 434.766.6745. \nMinimum enrollment: 6 | Maximum enrollment: 11 \nInstructor Brian Stanley\, Advanced Learning Coordinator II at IALR. \nREGISTER \n 
URL:https://www.ialr.org/event/wonder-community-intro-to-canva-5-21-26/
LOCATION:Institute for Advanced Learning and Research\, 150 Slayton Avenue\, Danville\, VA\, 24504\, United States
CATEGORIES:Advanced Learning,Community Events,Computer Trainings,Featured,Learning Opportunities
ATTACH;FMTTYPE=image/jpeg:https://www.ialr.org/wp-content/uploads/2023/02/AdobeStock_145774524.jpeg
END:VEVENT
END:VCALENDAR